BEGIN:VCALENDAR
VERSION:2.0
PRODID:-//Gesundheitsberatung Frank Blunier - ECPv6.15.20//NONSGML v1.0//EN
CALSCALE:GREGORIAN
METHOD:PUBLISH
X-WR-CALNAME:Gesundheitsberatung Frank Blunier
X-ORIGINAL-URL:https://www.gesundheit-ist-einfach.ch
X-WR-CALDESC:Veranstaltungen im Gesundheitsberatung Frank Blunier
REFRESH-INTERVAL;VALUE=DURATION:PT1H
X-Robots-Tag:noindex
X-PUBLISHED-TTL:PT1H
BEGIN:VTIMEZONE
TZID:Europe/Zurich
BEGIN:DAYLIGHT
TZOFFSETFROM:+0100
TZOFFSETTO:+0200
TZNAME:CEST
DTSTART:20230326T010000
END:DAYLIGHT
BEGIN:STANDARD
TZOFFSETFROM:+0200
TZOFFSETTO:+0100
TZNAME:CET
DTSTART:20231029T010000
END:STANDARD
BEGIN:DAYLIGHT
TZOFFSETFROM:+0100
TZOFFSETTO:+0200
TZNAME:CEST
DTSTART:20240331T010000
END:DAYLIGHT
BEGIN:STANDARD
TZOFFSETFROM:+0200
TZOFFSETTO:+0100
TZNAME:CET
DTSTART:20241027T010000
END:STANDARD
BEGIN:DAYLIGHT
TZOFFSETFROM:+0100
TZOFFSETTO:+0200
TZNAME:CEST
DTSTART:20250330T010000
END:DAYLIGHT
BEGIN:STANDARD
TZOFFSETFROM:+0200
TZOFFSETTO:+0100
TZNAME:CET
DTSTART:20251026T010000
END:STANDARD
BEGIN:DAYLIGHT
TZOFFSETFROM:+0100
TZOFFSETTO:+0200
TZNAME:CEST
DTSTART:20260329T010000
END:DAYLIGHT
BEGIN:STANDARD
TZOFFSETFROM:+0200
TZOFFSETTO:+0100
TZNAME:CET
DTSTART:20261025T010000
END:STANDARD
END:VTIMEZONE
BEGIN:VEVENT
DTSTART;TZID=Europe/Zurich:20250127T180000
DTEND;TZID=Europe/Zurich:20250127T210000
DTSTAMP:20260420T175447
CREATED:20241229T092816Z
LAST-MODIFIED:20241229T092816Z
UID:391-1738000800-1738011600@www.gesundheit-ist-einfach.ch
SUMMARY:Oxidative Therapie
DESCRIPTION:Montag\, 27. Januar 2025 – 18:00 – 21:00 Uhr \nIch gebe eine Einführung in die Welt der Oxidativen Therapie. \n\nwas ist oxidative Therapie\nwas ist CDS/CDL?\nwie funktioniert CDS/CDL?\nwie kann ich es anwenden?\nwie kann ich es herstellen?\n\nAls Grundlage dient mir die ganzheitliche Sichtweise auf unser Körpersystem\, basierend auf der Lehre von Dr. Rüdiger Dahlke. In seiner ganzheitlichen Ausbildung gibt er sein Wissen aus mehr als 45 Jahren der Arzt-Tätigkeit weiter.\nIm Bistro LagoLodge im Seminarraum im 1. Stock.\nAlle sind herzlich willkommen. Der Eintritt ist frei. Wertschätzungen werden Dankend angenommen.
URL:https://www.gesundheit-ist-einfach.ch/event/oxidative-therapie-2/
LOCATION:LagoLodge\, Uferweg 5\, Nidau\, 2560\, Switzerland
CATEGORIES:Elektromolekulare Medizin
ATTACH;FMTTYPE=image/png:https://www.gesundheit-ist-einfach.ch/wp-content/uploads/2024/12/Flyer-CDS-25-01-27.png
END:VEVENT
BEGIN:VEVENT
DTSTART;TZID=Europe/Zurich:20250118T150000
DTEND;TZID=Europe/Zurich:20250118T180000
DTSTAMP:20260420T175447
CREATED:20241229T092657Z
LAST-MODIFIED:20241229T092657Z
UID:388-1737212400-1737223200@www.gesundheit-ist-einfach.ch
SUMMARY:Oxidative Therapie
DESCRIPTION:Samstag\, 18. Januar 2025 – 15:00 – 18:00 Uhr \nIch gebe eine Einführung in die Welt der Oxidativen Therapie. \n\nwas ist oxidative Therapie\nwas ist CDS/CDL?\nwie funktioniert CDS/CDL?\nwie kann ich es anwenden?\nwie kann ich es herstellen?\n\nAls Grundlage dient mir die ganzheitliche Sichtweise auf unser Körpersystem\, basierend auf der Lehre von Dr. Rüdiger Dahlke. In seiner ganzheitlichen Ausbildung gibt er sein Wissen aus mehr als 45 Jahren der Arzt-Tätigkeit weiter.\nIm Bistro LagoLodge im Seminarraum im 1. Stock.\nAlle sind herzlich willkommen. Der Eintritt ist frei. Wertschätzungen werden Dankend angenommen.
URL:https://www.gesundheit-ist-einfach.ch/event/oxidative-therapie/
LOCATION:LagoLodge\, Uferweg 5\, Nidau\, 2560\, Switzerland
CATEGORIES:Elektromolekulare Medizin
ATTACH;FMTTYPE=image/png:https://www.gesundheit-ist-einfach.ch/wp-content/uploads/2024/12/Flyer-CDS-25-01-18.png
END:VEVENT
BEGIN:VEVENT
DTSTART;TZID=Europe/Zurich:20241221T150000
DTEND;TZID=Europe/Zurich:20241221T180000
DTSTAMP:20260420T175447
CREATED:20241213T110939Z
LAST-MODIFIED:20241213T122625Z
UID:385-1734793200-1734804000@www.gesundheit-ist-einfach.ch
SUMMARY:Elektromolekulare Medizin - Grundlagen
DESCRIPTION:Samstag\, 21. Dezember 2024 – 15:00 – 18:00 Uhr \nIch gebe eine Einführung in die Welt der Elektromolekularen Medizin. \n\nwas ist elektromolekulare Medizin?\nSauerstoffzufuhr\, Spannungsoptimierung mit Oxidativer Therapie\nZellkohärenz durch Frequenz-Behandlung\nMineralisierung durch Meerwasser\nwie und wo kann ich es anwenden?\n\nAls Grundlage dient mir die ganzheitliche Sichtweise auf unser Körpersystem\, basierend auf der Lehre von Dr. Rüdiger Dahlke. In seiner ganzheitlichen Ausbildung gibt er sein Wissen aus mehr als 45 Jahren der Arzt-Tätigkeit weiter.\nIm Bistro LagoLodge im Seminarraum im 1. Stock.\nAlle sind herzlich willkommen. Der Eintritt ist frei. Wertschätzungen werden Dankend angenommen.
URL:https://www.gesundheit-ist-einfach.ch/event/elektromolekulare-medizin-grundlagen/
LOCATION:LagoLodge\, Uferweg 5\, Nidau\, 2560\, Switzerland
ATTACH;FMTTYPE=image/jpeg:https://www.gesundheit-ist-einfach.ch/wp-content/uploads/2024/12/Flyer-EMM.1.jpeg
END:VEVENT
BEGIN:VEVENT
DTSTART;TZID=Europe/Zurich:20241206T180000
DTEND;TZID=Europe/Zurich:20241206T210000
DTSTAMP:20260420T175447
CREATED:20241204T115445Z
LAST-MODIFIED:20241204T121742Z
UID:316-1733508000-1733518800@www.gesundheit-ist-einfach.ch
SUMMARY:Oxidative Therapie - Grundlagen
DESCRIPTION:Freitag\, 6. Dezember 2024 – 18:00 – 21:00 Uhr \nIch gebe eine Einführung in die Welt der Oxidativen Therapie. \n\nwas ist oxidative Therapie\nwas ist CDS/CDL?\nwie funktioniert CDS/CDL?\nwie kann ich es anwenden?\nwie kann ich es herstellen?\n\nAls Grundlage dient mir die ganzheitliche Sichtweise auf unser Körpersystem\, basierend auf der Lehre von Dr. Rüdiger Dahlke. In seiner ganzheitlichen Ausbildung gibt er sein Wissen aus mehr als 45 Jahren der Arzt-Tätigkeit weiter.\nIm Bistro LagoLodge im Seminarraum im 1. Stock.\nAlle sind herzlich willkommen. Der Eintritt ist frei. Wertschätzungen werden Dankend angenommen.
URL:https://www.gesundheit-ist-einfach.ch/event/oxidative-therapie-grundlagen/
LOCATION:LagoLodge\, Uferweg 5\, Nidau\, 2560\, Switzerland
CATEGORIES:Elektromolekulare Medizin
ATTACH;FMTTYPE=image/png:https://www.gesundheit-ist-einfach.ch/wp-content/uploads/2024/11/flyer-cds-1206.png
END:VEVENT
END:VCALENDAR