BEGIN:VCALENDAR
VERSION:2.0
PRODID:-//Gesundheitsberatung Frank Blunier - ECPv6.15.20//NONSGML v1.0//EN
CALSCALE:GREGORIAN
METHOD:PUBLISH
X-WR-CALNAME:Gesundheitsberatung Frank Blunier
X-ORIGINAL-URL:https://www.gesundheit-ist-einfach.ch
X-WR-CALDESC:Veranstaltungen im Gesundheitsberatung Frank Blunier
REFRESH-INTERVAL;VALUE=DURATION:PT1H
X-Robots-Tag:noindex
X-PUBLISHED-TTL:PT1H
BEGIN:VTIMEZONE
TZID:Europe/Zurich
BEGIN:DAYLIGHT
TZOFFSETFROM:+0100
TZOFFSETTO:+0200
TZNAME:CEST
DTSTART:20250330T010000
END:DAYLIGHT
BEGIN:STANDARD
TZOFFSETFROM:+0200
TZOFFSETTO:+0100
TZNAME:CET
DTSTART:20251026T010000
END:STANDARD
BEGIN:DAYLIGHT
TZOFFSETFROM:+0100
TZOFFSETTO:+0200
TZNAME:CEST
DTSTART:20260329T010000
END:DAYLIGHT
BEGIN:STANDARD
TZOFFSETFROM:+0200
TZOFFSETTO:+0100
TZNAME:CET
DTSTART:20261025T010000
END:STANDARD
BEGIN:DAYLIGHT
TZOFFSETFROM:+0100
TZOFFSETTO:+0200
TZNAME:CEST
DTSTART:20270328T010000
END:DAYLIGHT
BEGIN:STANDARD
TZOFFSETFROM:+0200
TZOFFSETTO:+0100
TZNAME:CET
DTSTART:20271031T010000
END:STANDARD
END:VTIMEZONE
BEGIN:VEVENT
DTSTART;TZID=Europe/Zurich:20260411T090000
DTEND;TZID=Europe/Zurich:20260411T200000
DTSTAMP:20260423T235042
CREATED:20260327T100936Z
LAST-MODIFIED:20260327T101908Z
UID:1646-1775898000-1775937600@www.gesundheit-ist-einfach.ch
SUMMARY:Bewusst Seins Tage Solothurn
DESCRIPTION:Am Samstag\, 11. April 2026 bin ich an den Bewusstseins Tagen in Solothurn anzutreffen. \nZu finden bin ich bei Super Patch und biete neben der Beratung zu Super Patch auch Vitaldatenmessungen an. \nTauche ein in die faszinierende Welt des Bewusstseins. Entdecke innovative Methoden und außergewöhnliche Menschen\, die dir helfen\, dein Bewusstsein zu erweitern und dein volles Potenzial zu entfalten. Erfahre\, wie du dein inneres Gleichgewicht stärkst\, neue Perspektiven gewinnst und dein Leben nachhaltig zum Positiven veränderst. Führende Expertinnen und Experten geben dir Einblicke in die neuesten Erkenntnisse aus Wissenschaft und Spiritualität. Sie zeigen Wege auf\, wie bewusstes Leben nicht nur zu mehr innerer Ruhe führt\, sondern auch Kreativität\, Klarheit und Lebensfreude fördert. \nErlebe praxisnahe Werkzeuge und Impulse\, die du direkt in deinen Alltag integrieren kannst – für mehr Achtsamkeit\, tiefere Selbsterkenntnis und ein Leben in Verbundenheit mit dir selbst und der Welt um dich herum. Diese Suche nach Bewusstsein begleitet die Menschheit seit Jahrtausenden – und heute stehen uns mehr Wege offen denn je. Lass dich inspirieren von überraschenden Antworten\, zeitlosen Weisheiten und modernen Erkenntnissen. Deine Reise beginnt jetzt. Auch du kannst als Aussteller dabei sein! Teile deine Vision\, dein Wissen und deine Angebote mit einem interessierten Publikum.
URL:https://www.gesundheit-ist-einfach.ch/event/bewusst-seins-tage-solothurn/
LOCATION:Konzertsaal Solothurn\, Untere Steingrubenstrasse 1\, Solothurn\, SO\, 4500\, Switzerland
CATEGORIES:Ausstellungen & Events
ATTACH;FMTTYPE=image/jpeg:https://www.gesundheit-ist-einfach.ch/wp-content/uploads/2026/03/flyer-A6-Bewusstseinstage-2026-Seite-1.jpg
END:VEVENT
BEGIN:VEVENT
DTSTART;TZID=Europe/Zurich:20260502T130000
DTEND;TZID=Europe/Zurich:20260503T160000
DTSTAMP:20260423T235042
CREATED:20260423T141129Z
LAST-MODIFIED:20260423T141959Z
UID:1761-1777726800-1777824000@www.gesundheit-ist-einfach.ch
SUMMARY:XundheitsTagung 2026 Sumiswald
DESCRIPTION:Am Samstag\, 2. Mai bis Sonntag\, 3. Mai 2026 bin ich an der XundheitsTagung in Sumiswald. \nEs würde mich sehr freuen die eine oder den anderen im schönen Emmental begrüssen zu dürfen. Ich betreibe einen eigenen Stand. Die Fahrtzeit ab Biel mit dem Öffentlichen Verkehr oder mit dem Auto nach Sumiswald beträgt ca. 1 Stunde. Die Vielfalt der Aussteller und des Angebots ist grossartig. Es ist auf jeden Fall einen Ausflug wert. Auf der Webseite der XundheitsTagung kannst Du Dir ein Bild machen. \nDie Ausstellung beginnt am Samstag 02. Mai 2026 um 13.00 Uhr. Der Caterer VCJ GmbH sorgt für das leibliche Wohl. Wer die Tagung besuchen und vom Essensangebot profitieren möchte\, kann bei mir Essensgutscheine zu einem reduzierten Preis von CHF 18.00 anfragen. \nUm 19.00 Uhr beginnt der Ritualabend. Bei guter Witterung findet die Zeremonie «Zu den Wurzeln» draussen statt. Wer daran teilnehmen möchte bringt warme Kleidung\, eine Sitzunterlage und/oder Decke mit. Die Hüterinnen & Hüter des Ritualraumes führen dich sicher durch die Zeremonie\, die Welt der Pflanzen\, den Jahreskreis und rhytmische Klänge mit Gong\, Trommel und Feuer. Spätestens um 22.00 Uhr endet die Zeremonie\, im Quartier kehr die Nachtruhe ein. \nAm Sonntag 03. Mai 2026 um 10.00 Uhr geht die Tagung weiter\, auch die Vorträge. Die Platzzahl ist beschränkt. Komm also rechtzeitig um deinen Vortrag nicht zu verpassen. Auch an diesem Tag sorgt unser Caterer für unser leibliches Wohl. Um 16.00 Uhr lassen wir den Anlass ausklingen.
URL:https://www.gesundheit-ist-einfach.ch/event/xundheitstagung-2026-sumiswald/
LOCATION:Aula\, Hofackerstrasse 8 – 3454 Sumiswald\, Hofackerstrasse 8\, Sumiswald\, BE\, 3454\, Switzerland
CATEGORIES:Ausstellungen & Events
ATTACH;FMTTYPE=image/jpeg:https://www.gesundheit-ist-einfach.ch/wp-content/uploads/2026/04/XundheitsTagung-20260502.jpeg
END:VEVENT
BEGIN:VEVENT
DTSTART;TZID=Europe/Zurich:20260509T090000
DTEND;TZID=Europe/Zurich:20260509T170000
DTSTAMP:20260423T235042
CREATED:20260423T151916Z
LAST-MODIFIED:20260423T152153Z
UID:1793-1778317200-1778346000@www.gesundheit-ist-einfach.ch
SUMMARY:35. Bärtschihus Dorfmärit
DESCRIPTION:Am Samstag\, 9. Mai Mai 2026 bin ich am Bärtschihus Märit in Gümligen. \nEs würde mich sehr freuen die eine oder den anderen in Gümligen begrüssen zu dürfen. Ich betreibe einen Stand im grossen Saal mit einer Freundin aus dem Super Patch Team. Der Bärtschihus Märit hat eine lange Tradition und ist sehr gut geeignet für Familien mit Kindern. Es gibt viel zu sehen und entdecken. \nDie Ausstellung beginnt um 9.00 Uhr und endet um 17 Uhr. Ab 18 Uhr wird eine Foodzone zur allgemeinen Verköstigung angeboten.
URL:https://www.gesundheit-ist-einfach.ch/event/35-baertschihus-dorfmaerit/
LOCATION:Bärtschihus Gümligen\, Dorfstrasse 14\, Gümligen\, BE\, 3073\, Switzerland
CATEGORIES:Ausstellungen & Events,Vitaldaten
ATTACH;FMTTYPE=image/jpeg:https://www.gesundheit-ist-einfach.ch/wp-content/uploads/2026/04/Baertschihus-Maerit-226-05-09.jpeg
END:VEVENT
BEGIN:VEVENT
DTSTART;TZID=Europe/Zurich:20260520T163000
DTEND;TZID=Europe/Zurich:20260520T180000
DTSTAMP:20260423T235042
CREATED:20260416T070940Z
LAST-MODIFIED:20260418T161845Z
UID:1696-1779294600-1779300000@www.gesundheit-ist-einfach.ch
SUMMARY:Vitaldaten Messung und Kurzberatung
DESCRIPTION:In der Vitaldatenmessung enthalten sind mehr als 270 Gesundheits-Informationen. Ohne Blutabnahme\, ohne Strahlung und die Ergebnisse sind sofort verfügbar.  \nMit einer kurzen Messung werden mehr als 270 Vitaldaten ermittelt. Vom Verdauungssystem über die Organe zu den Knochen wird der Körper ausgewertet. Weiter erhalten wir Daten zu Spurenelementen\, Vitaminen\, Aminosäuren\, Coenzyme und Fettsäuren. \nEine Bestandsaufnahme der aktuellen gesundheitlichen Situation hilft\, den eigenen Zustand zu reflektieren und zu benennen\, wie auch für den späteren Vergleich und subjektiven Überprüfung einer Veränderung. Dazu habe ich ein Formular erstellt\, mit dem die Momentaufnahme aufgenommen und das Resultat per E-Mail zugestellt werden kann. \nGesundheitsstatus ausfüllen \nEine angebotene Sitzung dauert 20 Minuten. Der Kostenbeitrag beläuft sich auf CHF 25.–.\nDies beinhaltet die Messung mit einer anschliessenden Kurzanalyse und Besprechung. Nach Wunsch vereinbaren wir einen Folgetermin um die Messdaten detailliert anzuschauen und mögliche Massnahmen zu besprechen.\n \nDas Angebot benötigt eine Anmeldung und gilt für den 20. Mai 2026 von 16:30 – 18:00 im Seminarraum vom Lago Lodge. Es sind 4 Messungen zu vergeben. Die Zeiten werden vom Veranstalter nach dem Eingangszeitpunkt vergeben. \nLeider ist keine Buchung mehr möglich. Alle Plätze sind vergeben. Die Vitaldatenmessung kann auch regulär bei mir gebucht werden. Bitte verwende dazu das Kontaktformular.
URL:https://www.gesundheit-ist-einfach.ch/event/vitaldaten-messung-und-kurzberatung-copy/
LOCATION:LagoLodge\, Uferweg 5\, Nidau\, 2560\, Switzerland
CATEGORIES:Vitaldaten
ATTACH;FMTTYPE=image/webp:https://www.gesundheit-ist-einfach.ch/wp-content/uploads/2026/01/QMRA-Leber.webp
END:VEVENT
BEGIN:VEVENT
DTSTART;TZID=Europe/Zurich:20260520T183000
DTEND;TZID=Europe/Zurich:20260520T210000
DTSTAMP:20260423T235042
CREATED:20260415T095715Z
LAST-MODIFIED:20260415T095912Z
UID:1693-1779301800-1779310800@www.gesundheit-ist-einfach.ch
SUMMARY:CDS/CDL Die gesunde Lösung für eine gesunde Umgebung
DESCRIPTION:Mittwoch\, 20. Mai 2026 – 18:30 – ca. 21:00 Uhr \nIch gebe eine Einführung in die Welt der Oxidativen Therapie. \n\nwas ist oxidative Therapie\nwas ist CDS/CDL?\nwie funktioniert CDS/CDL?\nwie kann ich es anwenden?\nwie kann ich es herstellen?\n\nAls Student des Kalcker Institute zeige ich auf wie die Oxidative Therapie ganzheitlich im Alltag eingesetzt werden kann. \nZur Ergänzung bringe ich das Meerwasser wie auch die Frequenz-Therapie zur Sprache. \nAls Grundlage dient mir die ganzheitliche Sichtweise auf unser Körpersystem\, basierend auf der Lehre von Dr. Rüdiger Dahlke. In seiner ganzheitlichen Ausbildung gibt er sein Wissen aus mehr als 45 Jahren der Arzt-Tätigkeit weiter.\nIm Bistro LagoLodge im Seminarraum im 1. Stock.\nAlle sind herzlich willkommen und eine Anmeldung ist nicht erforderlich. Der Eintritt ist frei. Wertschätzungen werden Dankend angenommen.
URL:https://www.gesundheit-ist-einfach.ch/event/cds-cdl-die-gesunde-loesung-fuer-eine-gesunde-umgebung-4/
LOCATION:LagoLodge\, Uferweg 5\, Nidau\, 2560\, Switzerland
CATEGORIES:Elektromolekulare Medizin
ATTACH;FMTTYPE=image/png:https://www.gesundheit-ist-einfach.ch/wp-content/uploads/2026/04/Flyer-CDS-2026-05-20.png
END:VEVENT
END:VCALENDAR